BEGIN:VCALENDAR
VERSION:2.0
PRODID:-//eventon.com NONSGML v1.0//EN
CALSCALE:GREGORIAN
METHOD:PUBLISH
BEGIN:VEVENT
UID:69e734b50c460
DTSTAMP:20260421T082629Z
DTSTART:20220216T183000Z
DTEND:20220216T225000Z
LOCATION:Feuerwehrhaus Füssen Florianstraße 4
SUMMARY:Unterricht: Funkunterweisung\,  UVV\,  Aktuelles
DESCRIPTION:Unterricht: Funkunterweisung\,  UVV\,  Aktuelles\nhttps://xn--f
 euerwehr-fssen-9vb.de/events/unterricht-funkunterweisung-uvv-aktuelles-2/
URL:https://xn--feuerwehr-fssen-9vb.de/events/unterricht-funkunterweisung-uvv-aktuelles-2/
END:VEVENT
END:VCALENDAR