BEGIN:VCALENDAR
VERSION:2.0
PRODID:-//eventon.com NONSGML v1.0//EN
CALSCALE:GREGORIAN
METHOD:PUBLISH
BEGIN:VEVENT
UID:69e74c933a293
DTSTAMP:20260421T100819Z
DTSTART:20220218T153000Z
DTEND:20220218T225000Z
LOCATION:Feuerwehrhaus Füssen Florianstraße 4
SUMMARY:Fahrzeug- und Gerätekunde
DESCRIPTION:Fahrzeug- und Gerätekunde\nhttps://xn--feuerwehr-fssen-9vb.de/
 events/fahrzeug-und-geraetekunde/
URL:https://xn--feuerwehr-fssen-9vb.de/events/fahrzeug-und-geraetekunde/
END:VEVENT
END:VCALENDAR