BEGIN:VCALENDAR
VERSION:2.0
PRODID:-//eventon.com NONSGML v1.0//EN
CALSCALE:GREGORIAN
METHOD:PUBLISH
BEGIN:VEVENT
UID:69e7344885671
DTSTAMP:20260421T082440Z
DTSTART:20220316T183000Z
DTEND:20220316T225000Z
LOCATION:Feuerwehrhaus Füssen Florianstraße 4
SUMMARY:Unterweisung: Fahrzeuge (Führerscheinkontrolle)
DESCRIPTION:Unterweisung: Fahrzeuge (Führerscheinkontrolle)\nhttps://xn--f
 euerwehr-fssen-9vb.de/events/unterweisung-fahrzeuge-fuehrerscheinkontrolle-
 2/
URL:https://xn--feuerwehr-fssen-9vb.de/events/unterweisung-fahrzeuge-fuehrerscheinkontrolle-2/
END:VEVENT
END:VCALENDAR