BEGIN:VCALENDAR
VERSION:2.0
PRODID:-//eventon.com NONSGML v1.0//EN
CALSCALE:GREGORIAN
METHOD:PUBLISH
BEGIN:VEVENT
UID:69e734b3883aa
DTSTAMP:20260421T082627Z
DTSTART:20220603T143000Z
DTEND:20220603T215000Z
LOCATION:Feuerwehrhaus Füssen Florianstraße 4
SUMMARY:Löschaufbau nach FwDV 4
DESCRIPTION:Löschaufbau nach FwDV 4\nhttps://xn--feuerwehr-fssen-9vb.de/ev
 ents/loeschaufbau-nach-fwdv-4/
URL:https://xn--feuerwehr-fssen-9vb.de/events/loeschaufbau-nach-fwdv-4/
END:VEVENT
END:VCALENDAR