BEGIN:VCALENDAR
VERSION:2.0
PRODID:-//eventon.com NONSGML v1.0//EN
CALSCALE:GREGORIAN
METHOD:PUBLISH
BEGIN:VEVENT
UID:69e69224b5068
DTSTAMP:20260420T205252Z
DTSTART:20220928T173000Z
DTEND:20220928T215000Z
LOCATION:
SUMMARY:Gruppenübung
DESCRIPTION:Gruppenübung\nhttps://xn--feuerwehr-fssen-9vb.de/events/gruppe
 nuebung/
URL:https://xn--feuerwehr-fssen-9vb.de/events/gruppenuebung/
END:VEVENT
END:VCALENDAR