BEGIN:VCALENDAR
VERSION:2.0
PRODID:-//eventon.com NONSGML v1.0//EN
CALSCALE:GREGORIAN
METHOD:PUBLISH
BEGIN:VEVENT
UID:69e74c5362cdb
DTSTAMP:20260421T100715Z
DTSTART:20221012T173000Z
DTEND:20221012T215000Z
LOCATION:
SUMMARY:Feuerlöscher\,  Rauchverschluss\,  Messgeräte
DESCRIPTION:Feuerlöscher\,  Rauchverschluss\,  Messgeräte\nhttps://xn--fe
 uerwehr-fssen-9vb.de/events/feuerloescher-rauchverschluss-messgeraete/
URL:https://xn--feuerwehr-fssen-9vb.de/events/feuerloescher-rauchverschluss-messgeraete/
END:VEVENT
END:VCALENDAR