BEGIN:VCALENDAR
VERSION:2.0
PRODID:-//eventon.com NONSGML v1.0//EN
CALSCALE:GREGORIAN
METHOD:PUBLISH
BEGIN:VEVENT
UID:69e7347a5f85f
DTSTAMP:20260421T082530Z
DTSTART:20221109T183000Z
DTEND:20221109T225000Z
LOCATION:Feuerwehrhaus Füssen Florianstraße 4
SUMMARY:Übung: CSA & Be- und Entlüftung
DESCRIPTION:\nhttps://xn--feuerwehr-fssen-9vb.de/events/uebung-csa-be-und-e
 ntlueftung/
URL:https://xn--feuerwehr-fssen-9vb.de/events/uebung-csa-be-und-entlueftung/
END:VEVENT
END:VCALENDAR