BEGIN:VCALENDAR
VERSION:2.0
PRODID:-//eventon.com NONSGML v1.0//EN
CALSCALE:GREGORIAN
METHOD:PUBLISH
BEGIN:VEVENT
UID:69e74a143d1c4
DTSTAMP:20260421T095740Z
DTSTART:20221116T183000Z
DTEND:20221116T225000Z
LOCATION:Feuerwehrhaus Füssen Florianstraße 4
SUMMARY:Übung: Neuerungen\,  Aktuelles
DESCRIPTION:\nhttps://xn--feuerwehr-fssen-9vb.de/events/uebung-neuerungen-a
 ktuelles/
URL:https://xn--feuerwehr-fssen-9vb.de/events/uebung-neuerungen-aktuelles/
END:VEVENT
END:VCALENDAR