BEGIN:VCALENDAR
VERSION:2.0
PRODID:-//eventon.com NONSGML v1.0//EN
CALSCALE:GREGORIAN
METHOD:PUBLISH
BEGIN:VEVENT
UID:69e67cb1f3bca
DTSTAMP:20260420T192121Z
DTSTART:20221123T183000Z
DTEND:20221123T225000Z
LOCATION:Feuerwehrhaus Füssen Florianstraße 4
SUMMARY:Übung: Jahresinspektion
DESCRIPTION:\nhttps://xn--feuerwehr-fssen-9vb.de/events/uebung-jahresinspek
 tion/
URL:https://xn--feuerwehr-fssen-9vb.de/events/uebung-jahresinspektion/
END:VEVENT
END:VCALENDAR