BEGIN:VCALENDAR
VERSION:2.0
PRODID:-//eventon.com NONSGML v1.0//EN
CALSCALE:GREGORIAN
METHOD:PUBLISH
BEGIN:VEVENT
UID:69e73441d20e2
DTSTAMP:20260421T082433Z
DTSTART:20230919T153000Z
DTEND:20230919T170000Z
LOCATION:
SUMMARY:Kinderfeuerwehr
DESCRIPTION:\nhttps://xn--feuerwehr-fssen-9vb.de/events/kinderfeuerwehr-12/
URL:https://xn--feuerwehr-fssen-9vb.de/events/kinderfeuerwehr-12/
END:VEVENT
END:VCALENDAR