BEGIN:VCALENDAR
VERSION:2.0
PRODID:-//eventon.com NONSGML v1.0//EN
CALSCALE:GREGORIAN
METHOD:PUBLISH
BEGIN:VEVENT
UID:69e7355043f29
DTSTAMP:20260421T082904Z
DTSTART:20230421T143000Z
DTEND:20230421T160000Z
LOCATION:Feuerwehrhaus Füssen Florianstraße 4
SUMMARY:Jugendfeuerwehr
DESCRIPTION:\nhttps://xn--feuerwehr-fssen-9vb.de/events/jugendfeuerwehr-7/
URL:https://xn--feuerwehr-fssen-9vb.de/events/jugendfeuerwehr-7/
END:VEVENT
END:VCALENDAR