BEGIN:VCALENDAR
VERSION:2.0
PRODID:-//eventon.com NONSGML v1.0//EN
CALSCALE:GREGORIAN
METHOD:PUBLISH
BEGIN:VEVENT
UID:69e5e92d99fc7
DTSTAMP:20260420T085157Z
DTSTART:20230505T143000Z
DTEND:20230505T160000Z
LOCATION:Feuerwehrhaus Füssen Florianstraße 4
SUMMARY:Jugendfeuerwehr
DESCRIPTION:\nhttps://xn--feuerwehr-fssen-9vb.de/events/jugendfeuerwehr-8/
URL:https://xn--feuerwehr-fssen-9vb.de/events/jugendfeuerwehr-8/
END:VEVENT
END:VCALENDAR