BEGIN:VCALENDAR
VERSION:2.0
PRODID:-//eventon.com NONSGML v1.0//EN
CALSCALE:GREGORIAN
METHOD:PUBLISH
BEGIN:VEVENT
UID:69e7469ad374f
DTSTAMP:20260421T094250Z
DTSTART:20230510T173000Z
DTEND:20230510T215000Z
LOCATION:Feuerwehrhaus Füssen Florianstraße 4
SUMMARY:Aktive Mannschaft
DESCRIPTION:\nhttps://xn--feuerwehr-fssen-9vb.de/events/aktive-mannschaft/
URL:https://xn--feuerwehr-fssen-9vb.de/events/aktive-mannschaft/
END:VEVENT
END:VCALENDAR