BEGIN:VCALENDAR
VERSION:2.0
PRODID:-//eventon.com NONSGML v1.0//EN
CALSCALE:GREGORIAN
METHOD:PUBLISH
BEGIN:VEVENT
UID:69e73560662bb
DTSTAMP:20260421T082920Z
DTSTART:20230605T173000Z
DTEND:20230605T215000Z
LOCATION:Feuerwehrhaus Füssen Florianstraße 4
SUMMARY:Aktive Mannschaft
DESCRIPTION:\nhttps://xn--feuerwehr-fssen-9vb.de/events/aktive-mannschaft-5
 /
URL:https://xn--feuerwehr-fssen-9vb.de/events/aktive-mannschaft-5/
END:VEVENT
END:VCALENDAR