BEGIN:VCALENDAR
VERSION:2.0
PRODID:-//eventon.com NONSGML v1.0//EN
CALSCALE:GREGORIAN
METHOD:PUBLISH
BEGIN:VEVENT
UID:69e7347a3af24
DTSTAMP:20260421T082530Z
DTSTART:20240625T153000Z
DTEND:20240625T170000Z
LOCATION:Feuerwehrhaus Füssen Florianstraße 4
SUMMARY:Kinderfeuerwehr
DESCRIPTION:\nhttps://xn--feuerwehr-fssen-9vb.de/events/kinderfeuerwehr-25/
URL:https://xn--feuerwehr-fssen-9vb.de/events/kinderfeuerwehr-25/
END:VEVENT
END:VCALENDAR