BEGIN:VCALENDAR
VERSION:2.0
PRODID:-//eventon.com NONSGML v1.0//EN
CALSCALE:GREGORIAN
METHOD:PUBLISH
BEGIN:VEVENT
UID:69e735606e5cf
DTSTAMP:20260421T082920Z
DTSTART:20240510T143000Z
DTEND:20240510T160000Z
LOCATION:Feuerwehrhaus Füssen Florianstraße 4
SUMMARY:Jugendfeuerwehr
DESCRIPTION:\nhttps://xn--feuerwehr-fssen-9vb.de/events/jugendfeuerwehr-40/
URL:https://xn--feuerwehr-fssen-9vb.de/events/jugendfeuerwehr-40/
END:VEVENT
END:VCALENDAR