BEGIN:VCALENDAR
VERSION:2.0
PRODID:-//eventon.com NONSGML v1.0//EN
CALSCALE:GREGORIAN
METHOD:PUBLISH
BEGIN:VEVENT
UID:69e8c71097af5
DTSTAMP:20260422T130312Z
DTSTART:20240701T173000Z
DTEND:20240701T215900Z
LOCATION:Feuerwehrhaus Füssen Florianstraße 4
SUMMARY:Aktive Mannschaft
DESCRIPTION:\nhttps://xn--feuerwehr-fssen-9vb.de/events/aktive-mannschaft-1
 5/
URL:https://xn--feuerwehr-fssen-9vb.de/events/aktive-mannschaft-15/
END:VEVENT
END:VCALENDAR