BEGIN:VCALENDAR
VERSION:2.0
PRODID:-//eventon.com NONSGML v1.0//EN
CALSCALE:GREGORIAN
METHOD:PUBLISH
BEGIN:VEVENT
UID:69e7479f3e873
DTSTAMP:20260421T094711Z
DTSTART:20250416T173000Z
DTEND:20250416T215900Z
LOCATION:Feuerwehrhaus Füssen Florianstraße 4
SUMMARY:Aktive Mannschaft
DESCRIPTION:\nhttps://xn--feuerwehr-fssen-9vb.de/events/aktive-mannschaft-4
 8/
URL:https://xn--feuerwehr-fssen-9vb.de/events/aktive-mannschaft-48/
END:VEVENT
END:VCALENDAR