BEGIN:VCALENDAR
VERSION:2.0
PRODID:-//eventon.com NONSGML v1.0//EN
CALSCALE:GREGORIAN
METHOD:PUBLISH
BEGIN:VEVENT
UID:69e74856d7f7b
DTSTAMP:20260421T095014Z
DTSTART:20251008T173000Z
DTEND:20251008T215900Z
LOCATION:Feuerwehrhaus Füssen Florianstraße 4
SUMMARY:Aktive Mannschaft
DESCRIPTION:\nhttps://xn--feuerwehr-fssen-9vb.de/events/aktive-mannschaft-7
 0/
URL:https://xn--feuerwehr-fssen-9vb.de/events/aktive-mannschaft-70/
END:VEVENT
END:VCALENDAR