BEGIN:VCALENDAR
VERSION:2.0
PRODID:-//eventon.com NONSGML v1.0//EN
CALSCALE:GREGORIAN
METHOD:PUBLISH
BEGIN:VEVENT
UID:69e734b37984a
DTSTAMP:20260421T082627Z
DTSTART:20251105T183000Z
DTEND:20251105T225900Z
LOCATION:Feuerwehrhaus Füssen Florianstraße 4
SUMMARY:Aktive Mannschaft
DESCRIPTION:\nhttps://xn--feuerwehr-fssen-9vb.de/events/aktive-mannschaft-7
 5/
URL:https://xn--feuerwehr-fssen-9vb.de/events/aktive-mannschaft-75/
END:VEVENT
END:VCALENDAR