BEGIN:VCALENDAR
VERSION:2.0
PRODID:-//eventon.com NONSGML v1.0//EN
CALSCALE:GREGORIAN
METHOD:PUBLISH
BEGIN:VEVENT
UID:69e73552da7c1
DTSTAMP:20260421T082906Z
DTSTART:20250325T163000Z
DTEND:20250325T180000Z
LOCATION:Feuerwehrhaus Füssen Florianstraße 4
SUMMARY:Kinderfeuerwehr
DESCRIPTION:\nhttps://xn--feuerwehr-fssen-9vb.de/events/kinderfeuerwehr-34/
URL:https://xn--feuerwehr-fssen-9vb.de/events/kinderfeuerwehr-34/
END:VEVENT
END:VCALENDAR