BEGIN:VCALENDAR
VERSION:2.0
PRODID:-//eventon.com NONSGML v1.0//EN
CALSCALE:GREGORIAN
METHOD:PUBLISH
BEGIN:VEVENT
UID:69e733e82ec2d
DTSTAMP:20260421T082304Z
DTSTART:20250520T153000Z
DTEND:20250520T170000Z
LOCATION:Feuerwehrhaus Füssen Florianstraße 4
SUMMARY:Kinderfeuerwehr
DESCRIPTION:\nhttps://xn--feuerwehr-fssen-9vb.de/events/kinderfeuerwehr-37/
URL:https://xn--feuerwehr-fssen-9vb.de/events/kinderfeuerwehr-37/
END:VEVENT
END:VCALENDAR