BEGIN:VCALENDAR
VERSION:2.0
PRODID:-//eventon.com NONSGML v1.0//EN
CALSCALE:GREGORIAN
METHOD:PUBLISH
BEGIN:VEVENT
UID:69e747e91638b
DTSTAMP:20260421T094825Z
DTSTART:20250404T143000Z
DTEND:20250404T215900Z
LOCATION:Feuerwehrhaus Füssen Florianstraße 4
SUMMARY:Jugendfeuerwehr
DESCRIPTION:\nhttps://xn--feuerwehr-fssen-9vb.de/events/jugendfeuerwehr-68/
URL:https://xn--feuerwehr-fssen-9vb.de/events/jugendfeuerwehr-68/
END:VEVENT
END:VCALENDAR